BEGIN:VCALENDAR
VERSION:2.0
PRODID:-//Venčanje//Aleksandra i Dragan//SR
CALSCALE:GREGORIAN

BEGIN:VEVENT
UID:20260530-vencanje-aleksandra-dragan@example.com
DTSTAMP:20260101T120000
DTSTART;VALUE=DATE:20260530
DTEND;VALUE=DATE:20260531
SUMMARY:Aleksandra i Dragan – Venčanje
LOCATION:Grčka
DESCRIPTION:Venčanje Aleksandre i Dragana u Grčkoj.

BEGIN:VALARM
TRIGGER;VALUE=DATE-TIME:20260210T090000
ACTION:DISPLAY
DESCRIPTION:Podsetnik: Potvrdite prisustvo do 20. februara
END:VALARM

BEGIN:VALARM
TRIGGER;VALUE=DATE-TIME:20260219T090000
ACTION:DISPLAY
DESCRIPTION:Podsetnik: Potvrdite prisustvo do 20. februara
END:VALARM

END:VEVENT
END:VCALENDAR
